BEGIN:VCALENDAR
VERSION:2.0
PRODID:-//jEvents 1.5 for Joomla//EN
CALSCALE:GREGORIAN
METHOD:PUBLISH
BEGIN:VEVENT

UID:ff714cc05aaa7c69a9d465bc2f686d6d
CATEGORIES:Aspirantes
SUMMARY:Feria de Universidades de Bogotá en Santander, Franja 7:00am a 10:00am
LOCATION:Centro de Convenciones Casa Ballesteros del Hotel San Juan Internacional - 
 Kilómetro 6 Autopista Girón
DESCRIPTION;ENCODING=QUOTED-PRINTABLE:La “FERIA DE UNIVERSIDADES DE BOGOTÁ 2014” busca brindar apoyo y orientació
 n a los estudiantes de último año de los colegios de Santander para que con
 ozcan los programas académicos de pregrado que ofrecen diferentes Universid
 ades de Bogotá.\n \n\n\n\n\n\n \n¿En qué consiste el evento?\n\n\nEl evento
  está compuesto de dos espacios informativos simultáneos, donde los estudia
 ntes podrán encontrar representantes de la Universidad de los Andes así com
 o de otras 12 universidades privadas de Bogotá.\n \nEl primer espacio son s
 tands informativos de las universidades participantes donde podrán consegui
 r material sobre las diferentes carreras universitarias así como datos impo
 rtantes sobre procesos de admisión, costos y apoyo financiero.\n \nSimultán
 eamente, se estarán realizando charlas institucionales de cada universidad 
 para que los estudiantes interesados puedan particularizar en las instituci
 ones de su interés.\n \nEsta actividad se realizará el viernes 25 de abril 
 en dos franjas: de 7:00 a.m. a 10:00 a.m. o de 10:30 a.m. a 1:30 p.m. con c
 upos limitados. Usted podrá escoger en cuál de las dos franjas asistir. A c
 ontinuación inscríbase para participar en la franja de 7:00 a.m. a 10:00 a.
 m. Si está interesado en asistir de 10:30 a.m. a 1:30 p.m. ubique en el cal
 endario la franja correspondiente.\n \nA continuación verifique la disponib
 ilidad de cupos y realice su inscripción como persona o colegio según sea e
 l caso:\n
CONTACT:Jairo Restrepo

DTSTAMP:20260422T112135Z
DTSTART:20140425T120000Z
DTEND:20140425T150000Z
SEQUENCE:0
TRANSP:OPAQUE
END:VEVENT
END:VCALENDAR